BEGIN:VCALENDAR
VERSION:2.0
PRODID:-//eventon.com NONSGML v1.0//EN
CALSCALE:GREGORIAN
METHOD:PUBLISH
BEGIN:VEVENT
UID:69ea3ddb07dc0
DTSTAMP:20260423T154219Z
DTSTART:20230708T183000Z
DTEND:20230708T203000Z
LOCATION:
SUMMARY:LDN Wrestling
DESCRIPTION:LDN Wrestling &nbsp; A Kids &amp; Family Wrestling Show Coming 
 soon\,  the bone-crunching superstars of LDN Wrestling. Bringing a host of 
 top American wrestling stars to the ring to face the very best of home-grow
 n talent and fans’ favourites\,  in a two hour rip-roaring entertainment 
 for all the family to[..]\nhttps://kingstheatregloucester.co.uk/events/ldn-
 wrestling/
URL:https://kingstheatregloucester.co.uk/events/ldn-wrestling/
END:VEVENT
END:VCALENDAR