BEGIN:VCALENDAR
VERSION:2.0
PRODID:-//eventon.com NONSGML v1.0//EN
CALSCALE:GREGORIAN
METHOD:PUBLISH
BEGIN:VEVENT
UID:69ea42012dda2
DTSTAMP:20260423T160001Z
DTSTART:20250301T190000Z
DTEND:20250301T220000Z
LOCATION:
SUMMARY:Evolution Wrestling
DESCRIPTION:Evolution Wrestling A night of adrenaline fuelled\,  hard hitti
 ng\,  pulse pounding live professional Wrestling as Team Liam lead by the G
 loucester Gladiator Liam Jones takes on Team Levi captained by the shooting
  star Levi Cooper. A great night out suitable for the whole family.\nhttps:
 //kingstheatregloucester.co.uk/events/evolution-wrestling/
URL:https://kingstheatregloucester.co.uk/events/evolution-wrestling/
END:VEVENT
END:VCALENDAR